Workbook

Sheet 2022
A1: riadok | B1: Popis | C1: počet_subjektov | D1: objem_2022 v eurách
A2: r30 | B2: Úhrnná suma dôchodku (ov) uvedeného (ných) v § 11 ods. 6 zákona za zdaňovacie obdobie (v eurách) | C2: 18363 | D2: 1.2596832e+08 | F2: Počet subjektov – | G2: počet nenulových/vyplnených hodnôt v danom riadku
A3: r32_p | B3: uplatňujem nezdaniteľnú časť základu dane na manželku (manžela) podľa § 11 ods. 3 zákona vlastné príjmy (v eurách) | C3: 5775 | D3: 12189529 | F3: Objem_20xx_v_eurach – | G3: sumárna hodnota v eurách v danom riadku
A4: r32_m | B4: uplatňujem nezdaniteľnú časť základu dane na manželku (manžela) podľa § 11 ods. 3 zákona (počet mesiacov) | C4: 16575 | D4: 182369
A5: r33_deti_poc | B5: Údaje o vyživovaných deťoch žijúcich s daňovníkom v domácnosti na uplatnenie daňového zvýhodnenia na vyživované dieťa podľa § 33 a § 52zzn zákona | C5: 131825 | D5: 229777
A6: r33_deti_mes | B6: Údaje o vyživovaných deťoch žijúcich s daňovníkom v domácnosti na uplatnenie daňového zvýhodnenia na vyživované dieťa podľa § 33 a § 52zzn zákona | C6: 129956 | D6: 2492783
A7: r35s2 | B7: Zaplatené úroky za zdaňovacie obdobie (v eurách) | C7: 6978 | D7: 3367492.1
A8: r35s3 | B8: Zaplatené úroky za zdaňovacie obdobie (počet mesiacov) | C8: 6977 | D8: 75561
A9: r36 | B9: Úhrn príjmov od všetkých zamestnávateľov | C9: 187018 | D9: 2.894655e+09
A10: r36a | B10: úhrn príjmov plynúcich na základe dohôd o prácach vykonávaných mimo pracovného pomeru | C10: 39469 | D10: 75226802
A11: r37 | B11: Úhrn povinného poistného (§ 5 ods. 8 zákona) | C11: 184420 | D11: 3.566045e+08
A12: r38 | B12: Základ dane (čiastkový základ dane) (r. 36 - r. 37) | C12: 186996 | D12: 2.5414934e+09
A13: t1r1s1 | B13: z poľnohospodárskej výroby, lesného a vodného hospodárstva (P) | C13: 3964 | D13: 2.5029566e+08
A14: t1r1s2 | B14: z poľnohospodárskej výroby, lesného a vodného hospodárstva (V) | C14: 3075 | D14: 2.2915419e+08
A15: t1r2s1 | B15: zo živnosti (P) | C15: 376908 | D15: 1.181167e+10
... A219: r151 | B219: 2% alebo 3% zo zaplatenej dane (minimálne 3 eurá) z r.124 | C219: 139797 | D219: 9231395.1

Sheet 2021
A1: riadok | B1: Popis | C1: počet_subjektov | D1: objem_2021 v eurách
A2: r30 | B2: =VLOOKUP(A2,'2022'!$A$2:$B$219,2,FALSE) -> Úhrnná suma dôchodku (ov) uvedeného (ných) v § 11 ods. 6 zákona za zdaňovacie obdobie (v eurách) | C2: 19296 | D2: 1.2852787e+08
A3: r32_p | B3: =VLOOKUP(A3,'2022'!$A$2:$B$219,2,FALSE) -> uplatňujem nezdaniteľnú časť základu dane na manželku (manžela) podľa § 11 ods. 3 zákona vlastné príjmy (v eurách) | C3: 5522 | D3: 11591918
A4: r32_m | B4: =VLOOKUP(A4,'2022'!$A$2:$B$219,2,FALSE) -> uplatňujem nezdaniteľnú časť základu dane na manželku (manžela) podľa § 11 ods. 3 zákona (počet mesiacov) | C4: 15634 | D4: 173715
A5: r33_deti_poc | B5: =VLOOKUP(A5,'2022'!$A$2:$B$219,2,FALSE) -> Údaje o vyživovaných deťoch žijúcich s daňovníkom v domácnosti na uplatnenie daňového zvýhodnenia na vyživované dieťa podľa § 33 a § 52zzn zákona | C5: 125395 | D5: 218552
A6: r33_deti_mes | B6: =VLOOKUP(A6,'2022'!$A$2:$B$219,2,FALSE) -> Údaje o vyživovaných deťoch žijúcich s daňovníkom v domácnosti na uplatnenie daňového zvýhodnenia na vyživované dieťa podľa § 33 a § 52zzn zákona | C6: 123717 | D6: 2398192
A7: r35s2 | B7: =VLOOKUP(A7,'2022'!$A$2:$B$219,2,FALSE) -> Zaplatené úroky za zdaňovacie obdobie (v eurách) | C7: 4510 | D7: 2325950.9
A8: r35s3 | B8: =VLOOKUP(A8,'2022'!$A$2:$B$219,2,FALSE) -> Zaplatené úroky za zdaňovacie obdobie (počet mesiacov) | C8: 4510 | D8: 48851
A9: r36 | B9: =VLOOKUP(A9,'2022'!$A$2:$B$219,2,FALSE) -> Úhrn príjmov od všetkých zamestnávateľov | C9: 174541 | D9: 2.6520869e+09
A10: r36a | B10: =VLOOKUP(A10,'2022'!$A$2:$B$219,2,FALSE) -> úhrn príjmov plynúcich na základe dohôd o prácach vykonávaných mimo pracovného pomeru | C10: 36451 | D10: 67485211
A11: r37 | B11: =VLOOKUP(A11,'2022'!$A$2:$B$219,2,FALSE) -> Úhrn povinného poistného (§ 5 ods. 8 zákona) | C11: 171909 | D11: 3.2063587e+08
A12: r38 | B12: =VLOOKUP(A12,'2022'!$A$2:$B$219,2,FALSE) -> Základ dane (čiastkový základ dane) (r. 36 - r. 37) | C12: 174524 | D12: 2.3350319e+09
A13: t1r1s1 | B13: =VLOOKUP(A13,'2022'!$A$2:$B$219,2,FALSE) -> z poľnohospodárskej výroby, lesného a vodného hospodárstva (P) | C13: 3949 | D13: 2.2042938e+08
... A61: r46 | B61: =VLOOKUP(A61,'2022'!$A$2:$B$219,2,FALSE) -> Daňová strata z príjmov podľa § 6 ods. 1 a 2 zákona | C61: 27908 | D61: 2.2391408e+08
A62: s47r5 | B62: Suma odpočítavanej daňovej straty podľa § 30 a § 52zza ods. 16 zákona | C62: 2686 | D62: 7194616.8
A63: s48r5 | B63: Suma odpočítavanej daňovej straty podľa § 30 a § 52zza ods. 16 zákona | C63: 3034 | D63: 7336199.9
A64: s52r3 | B64: Maximálna výška daňovej straty, ktorá môže byť odpočítavaná podľa § 30 a § 52zza ods. 16 zákona vo výške 50 % z r. 45 maximálne však do výšky sumy uvedenej v r. 2 | C64: 3168 | D64: 10276036
A65: r53 | B65: Súčet daňových strát z r. 49 a r. 51, maximálne do sumy uvedenej v r.45 | C65: 4305 | D65: 11387547
A66: r54 | B66: Uplatnenie daňovej straty vykázanej za rok 2020, najviac do sumy uvedenej v r. 3 stĺpec 52, maximálne však do sumy zodpovedajúcej kladnému rozdielu súm uvedených v r. 45 a r. 53 | C66: 2655 | D66: 9103482.1
A67: r55 | B67: =VLOOKUP(A67,'2022'!$A$2:$B$219,2,FALSE) -> Znížený čiastkový základ dane z príjmov podľa § 6 ods. 1 a 2 zákona o stratu z predchádzajúcich zdaňovacích období | C67: 366997 | D67: 1.7988604e+09
A68: r56 | B68: Odpočet výdavkov (nákladov) na výskum a vývoj podľa § 30c zákona maximálne do sumy uvedenej v r. 55 | C68: 6 | D68: 402760.33
A69: r57 | B69: =VLOOKUP(A69,'2022'!$A$2:$B$219,2,FALSE) -> Základ dane (čiastkový základ dane) z príjmov podľa § 6 ods. 1 a 2 zákona znížený o odpočet výdavkov (nákladov) na výskum a vývoj a na investície (r. 55 - r. 56) | C69: 366986 | D69: 1.7984527e+09
A70: r58 | B70: =VLOOKUP(A70,'2022'!$A$2:$B$219,2,FALSE) -> Príjmy z tabuľky č. 1, stĺ. 1, r. 13 | C70: 64129 | D70: 4.4405954e+08
A71: r59 | B71: =VLOOKUP(A71,'2022'!$A$2:$B$219,2,FALSE) -> Výdavky z tabuľky č. 1, stĺ. 2, r. 13 | C71: 52594 | D71: 2.0178664e+08
A72: r60 | B72: =VLOOKUP(A72,'2022'!$A$2:$B$219,2,FALSE) -> Základ dane (rozdiel r. 58 a r. 59) | C72: 58843 | D72: 2.4228715e+08
A73: r61 | B73: =VLOOKUP(A73,'2022'!$A$2:$B$219,2,FALSE) -> Výsledok hospodárenia (zisk) | C73: 63 | D73: 501338.62
A74: r62 | B74: =VLOOKUP(A74,'2022'!$A$2:$B$219,2,FALSE) -> Výsledok hospodárenia (strata) | C74: 81 | D74: 519158.11
A75: r63 | B75: =VLOOKUP(A75,'2022'!$A$2:$B$219,2,FALSE) -> Položky zvyšujúce základ dane (znižujúce stratu) | C75: 107 | D75: 721445.31
A76: r64 | B76: =VLOOKUP(A76,'2022'!$A$2:$B$219,2,FALSE) -> Položky znižujúce základ dane (zvyšujúce stratu) | C76: 47 | D76: 643706.75
A77: r65 | B77: =VLOOKUP(A77,'2022'!$A$2:$B$219,2,FALSE) -> Základ dane (čiastkový základ dane) z príjmov podľa § 6 ods. 3 a 4 zákona | C77: 58868 | D77: 2.4261731e+08
A78: t2r1s1 | B78: =VLOOKUP(A78,'2022'!$A$2:$B$219,2,FALSE) -> úroky a ostatné výnosy z cenných papierov P) | C78: 2307 | D78: 33053328
A79: t2r1s2 | B79: =VLOOKUP(A79,'2022'!$A$2:$B$219,2,FALSE) -> úroky a ostatné výnosy z cenných papierov (V) | C79: 359 | D79: 12997979
A80: t2r2s1 | B80: =VLOOKUP(A80,'2022'!$A$2:$B$219,2,FALSE) -> úroky, výhry a iné výnosy z vkladov na vkladných knižkách, z peňažných prostriedkov na vkladovom účte, na účte stavebného sporiteľa a z bežného účtu okrem úrokov uvedených v § 6 ods. 5 písm. b) zákona (P) | C80: 605 | D80: 2591274.7
... A183: r115 | B183: =VLOOKUP(A183,'2022'!$A$2:$B$219,2,FALSE) -> Daň z osobitného základu dane podľa § 7 zákona po vyňatí a zápočte (r. 109 alebo r. 106) alebo (r. 109 - r. 114 alebo r. 106 - r. 114) | C183: 7037 | D183: 8378532.4
A184: r116 | B184: Daň (daňová povinnosť) zo základu dane zisteného podľa § 4 zákona, z osobitného základu dane podľa § 7 zákona a z osobitného základu dane podľa § 51e zákona (r. 90 + r. 105 + r. 115 + r. 28 prílohy č. 2) | C184: 275376 | D184: 5.629662e+08
A185: r117 | B185: =VLOOKUP(A185,'2022'!$A$2:$B$219,2,FALSE) -> Nárok na daňový bonus podľa zákona (na jedno dieťa alebo úhrn na viac vyživovaných detí) | C185: 125268 | D185: 87329229
A186: r118 | B186: =VLOOKUP(A186,'2022'!$A$2:$B$219,2,FALSE) -> Daň (daňová povinnosť) znížená o daňový bonus podľa zákona (r. 116 - r. 117) | C186: 245695 | D186: 5.2540528e+08
A187: r119 | B187: =VLOOKUP(A187,'2022'!$A$2:$B$219,2,FALSE) -> Suma daňového bonusu podľa zákona priznaného a vyplateného zamestnávateľom | C187: 27484 | D187: 15461276
A188: r120 | B188: =VLOOKUP(A188,'2022'!$A$2:$B$219,2,FALSE) -> Rozdiel riadkov r. 117 - r. 119 > 0 | C188: 106271 | D188: 71956145
A189: r121 | B189: =VLOOKUP(A189,'2022'!$A$2:$B$219,2,FALSE) -> Suma daňového bonusu podľa zákona na poukázanie správcom dane r. 120 - r. 116 >0 | C189: 74385 | D189: 48615648
A190: r122 | B190: =VLOOKUP(A190,'2022'!$A$2:$B$219,2,FALSE) -> Zamestnávateľom nesprávne vyplatený daňový bonus podľa zákona r. 119 - r. 117 > 0 | C190: 570 | D190: 90106.33
A191: r123 | B191: =VLOOKUP(A191,'2022'!$A$2:$B$219,2,FALSE) -> Nárok na daňový bonus na zaplatené úroky podľa § 33a zákona | C191: 4509 | D191: 1029401.6
A192: r124 | B192: =VLOOKUP(A192,'2022'!$A$2:$B$219,2,FALSE) -> Daň (daňová povinnosť) znížená o daňový bonus podľa zákona a o daňový bonus na zaplatené úroky podľa § 33a zákona (r. 118 - r. 123) | C192: 245319 | D192: 5.2475562e+08
A193: r125 | B193: =VLOOKUP(A193,'2022'!$A$2:$B$219,2,FALSE) -> Suma daňového bonusu na zaplatené úroky podľa § 33a zákona priznaného a vyplateného zamestnávateľom | C193: 103 | D193: 45061.36
A194: r126 | B194: =VLOOKUP(A194,'2022'!$A$2:$B$219,2,FALSE) -> Rozdiel r. 123 - r. 125 > 0 | C194: 4490 | D194: 1025529.4
A195: r127 | B195: =VLOOKUP(A195,'2022'!$A$2:$B$219,2,FALSE) -> Suma daňového bonusu na zaplatené úroky podľa § 33a zákona na poukázanie správcom dane r. 126 - r. 118 > 0 | C195: 1760 | D195: 393816.26
A196: r128 | B196: =VLOOKUP(A196,'2022'!$A$2:$B$219,2,FALSE) -> Suma zamestnaneckej prémie nesprávne vyplatenej zamestnávateľom alebo správcom dane | C196: 3 | D196: 931.11
... A216: r151 | B216: =VLOOKUP(A216,'2022'!$A$2:$B$219,2,FALSE) -> 2% alebo 3% zo zaplatenej dane (minimálne 3 eurá) z r.124 | C216: 123782 | D216: 8335412.9

Sheet 2020
A1: riadok | B1: Popis | C1: počet_subjektov | D1: objem_2020 v eurách
A2: r30 | B2: Úhrnná suma dôchodku (ov) uvedeného (ných) v § 11 ods. 6 zákona za zdaňovacie obdobie (v eurách) | C2: 20737 | D2: 1.3292339e+08
A3: r32_p | B3: uplatňujem nezdaniteľnú časť základu dane na manželku (manžela) podľa § 11 ods. 3 zákona vlastné príjmy (v eurách) | C3: 5643 | D3: 11481168
A4: r32_m | B4: uplatňujem nezdaniteľnú časť základu dane na manželku (manžela) podľa § 11 ods. 3 zákona (počet mesiacov) | C4: 15587 | D4: 172602
A5: r33s2 | B5: Preukázateľne zaplatené úhrady (najviac 50 eur) | C5: 227 | D5: 10923.58
A6: r34_deti_poc | B6: =VLOOKUP(A6,'2018'!$A$2:$B$213,2,FALSE) -> Údaje o vyživovaných deťoch žijúcich s daňovníkom v domácnosti na uplatnenie daňového bonusu podľa § 33 zákona | C6: 122803 | D6: 212934
A7: r34_deti_mes | B7: =VLOOKUP(A7,'2018'!$A$2:$B$213,2,FALSE) -> Údaje o vyživovaných deťoch žijúcich s daňovníkom v domácnosti na uplatnenie daňového bonusu podľa § 33 zákona | C7: 121248 | D7: 2339506
A8: r36 | B8: Preukázateľne zaplatené úhrady na kúpelnú starostlivosť za vyživované dieťa (deti) v úhrne najviac do výšky 50 eur za rok za každé z týchto detí | C8: 212 | D8: 15564.14
A9: r37s2 | B9: Zaplatené úroky za zdaňovacie obdobie (v eurách) | C9: 3366 | D9: 1656131.2
A10: r37s3 | B10: Zaplatené úroky za zdaňovacie obdobie (počet mesiacov) | C10: 3366 | D10: 35864
A11: r38 | B11: Úhrn príjmov od všetkých zamestnávateľov | C11: 174208 | D11: 2.4041922e+09
A12: r38a | B12: úhrn príjmov plynúcich na základe dohôd o prácach o prácach vykonávaných mimo pracovného pomeru | C12: 38280 | D12: 59480230
A13: r39 | B13: Úhrn povinného poistného (§ 5 ods. 8 zákona) | C13: 172152 | D13: 2.9423119e+08
A14: r40 | B14: Základ dane (čiastkový základ dane) (r. 38 - r. 39) | C14: 174191 | D14: 2.1133972e+09
A15: t1r1s1 | B15: =VLOOKUP(A15,'2022'!$A$2:$B$219,2,FALSE) -> z poľnohospodárskej výroby, lesného a vodného hospodárstva (P) | C15: 4029 | D15: 2.0208145e+08
A16: t1r1s2 | B16: =VLOOKUP(A16,'2022'!$A$2:$B$219,2,FALSE) -> z poľnohospodárskej výroby, lesného a vodného hospodárstva (V) | C16: 3238 | D16: 1.8463102e+08
A17: t1r2s1 | B17: =VLOOKUP(A17,'2022'!$A$2:$B$219,2,FALSE) -> zo živnosti (P) | C17: 344326 | D17: 9.9373679e+09
A18: t1r2s2 | B18: =VLOOKUP(A18,'2022'!$A$2:$B$219,2,FALSE) -> zo živnosti (V) | C18: 192596 | D18: 7.3782121e+09
A19: t1r3s1 | B19: =VLOOKUP(A19,'2022'!$A$2:$B$219,2,FALSE) -> z podnikania vykonávaného podľa osobitných predpisov (P) | C19: 8850 | D19: 3.5458209e+08
A20: t1r3s2 | B20: =VLOOKUP(A20,'2022'!$A$2:$B$219,2,FALSE) -> z podnikania vykonávaného podľa osobitných predpisov (V) | C20: 6226 | D20: 2.4531345e+08
A21: t1r4s1 | B21: =VLOOKUP(A21,'2022'!$A$2:$B$219,2,FALSE) -> spoločníkov v. o. s. a komplementárov kom. spol. (P) | C21: 460 | D21: 12327329
A22: t1r4s2 | B22: =VLOOKUP(A22,'2022'!$A$2:$B$219,2,FALSE) -> spoločníkov v. o. s. a komplementárov kom. spol.(V) | C22: 356 | D22: 6800208.1
A23: t1r5s1 | B23: =VLOOKUP(A23,'2022'!$A$2:$B$219,2,FALSE) -> z vytvorenia diela a z podania umeleckého výkonu, pri ktorých daňovník uplatnil postup podľa § 43 ods. 14 zákona a z vydávania, rozmnožovania a rozširovania diel na vlastné náklady a z vytvorenia alebo zhotovenia iného predmetu duševného vlastníctva a z použitia iného predmetu duševného vlastníctva alebo z postúpenia práv k predmetu duševného vlastníctva (P) | C23: 8148 | D23: 39845720
A24: t1r5s2 | B24: =VLOOKUP(A24,'2022'!$A$2:$B$219,2,FALSE) -> z vytvorenia diela a z podania umeleckého výkonu, pri ktorých daňovník uplatnil postup podľa § 43 ods. 14 zákona a z vydávania, rozmnožovania a rozširovania diel na vlastné náklady a z vytvorenia alebo zhotovenia iného predmetu duševného vlastníctva a z použitia iného predmetu duševného vlastníctva alebo z postúpenia práv k predmetu duševného vlastníctva (V) | C24: 4288 | D24: 14690114
A25: t1r6s1 | B25: =VLOOKUP(A25,'2022'!$A$2:$B$219,2,FALSE) -> z činností, ktoré nie sú živnosťou ani podnikaním (P) | C25: 16326 | D25: 94359217
A26: t1r6s2 | B26: =VLOOKUP(A26,'2022'!$A$2:$B$219,2,FALSE) -> z činností, ktoré nie sú živnosťou ani podnikaním (V) | C26: 8781 | D26: 36269777
... A55: t1br2s2 | B55: =VLOOKUP(A55,'2022'!$A$2:$B$219,2,FALSE) -> pohľadávky 1 | C55: 25093 | D55: 59096127
A56: r41 | B56: Príjmy z tabuľky č.1, stĺ . 1, r.10 | C56: 388889 | D56: 1.0771555e+10
A57: r42 | B57: Výdavky z tabuľky č. 1, stĺ. 2, r. 10 | C57: 388902 | D57: 9.377608e+09
A58: r43 | B58: Základ dane (kladný rozdiel r. 41 a r. 42); výsledok hospodárenia (zisk) | C58: 359521 | D58: 1.6965223e+09
A59: r44 | B59: Strata (záporný rozdiel r. 41 a r. 42); výsledok hospodárenia (strata) | C59: 30408 | D59: 2.3684529e+08
A60: r45 | B60: Položky zvyšujúce základ dane (znižujúce stratu) | C60: 4259 | D60: 23815902
A61: r46 | B61: Položky znižujúce základ dane (zvyšujúce stratu) | C61: 2168 | D61: 12237977
A62: r47 | B62: Základ dane (čiastkový základ dane) z príjmov podľa § 6 ods. 1 a 2 zákona | C62: 359805 | D62: 1.7000499e+09
A63: r48 | B63: Daňová strata z príjmov podľa § 6 ods. 1 a 2 zákona | C63: 30188 | D63: 2.2871918e+08
A64: s49r5 | B64: Suma odpočítavanej daňovej straty podľa § 30 a § 52zza ods. 16 zákon | C64: 2943 | D64: 6664271.7
A65: s50r5 | B65: Suma odpočítavanej daňovej straty podľa § 30 a § 52zza ods. 16 zákon | C65: 3327 | D65: 7388564.6
A66: s51r5 | B66: Suma odpočítavanej daňovej straty podľa § 30 a § 52zza ods. 16 zákon | C66: 3803 | D66: 8633898.2
A67: s52r5 | B67: Suma odpočítavanej daňovej straty podľa § 30 a § 52zza ods. 16 zákon | C67: 4918 | D67: 10592564
... A71: r57 | B71: Základ dane (čiastkový základ dane) z príjmov podľa § 6 ods. 1 a 2 zákona znížený o odpočet výdavkov (nákladov) na výskum a vývoj (r. 55 - r. 56) | C71: 358258 | D71: 1.6837307e+09
A72: r58 | B72: =VLOOKUP(A72,'2022'!$A$2:$B$219,2,FALSE) -> Príjmy z tabuľky č. 1, stĺ. 1, r. 13 | C72: 63180 | D72: 4.2070632e+08
A73: r59 | B73: =VLOOKUP(A73,'2022'!$A$2:$B$219,2,FALSE) -> Výdavky z tabuľky č. 1, stĺ. 2, r. 13 | C73: 51594 | D73: 1.8939295e+08
A74: r60 | B74: =VLOOKUP(A74,'2022'!$A$2:$B$219,2,FALSE) -> Základ dane (rozdiel r. 58 a r. 59) | C74: 57857 | D74: 2.3129275e+08
A75: r61 | B75: =VLOOKUP(A75,'2022'!$A$2:$B$219,2,FALSE) -> Výsledok hospodárenia (zisk) | C75: 60 | D75: 514211.64
A76: r62 | B76: =VLOOKUP(A76,'2022'!$A$2:$B$219,2,FALSE) -> Výsledok hospodárenia (strata) | C76: 126 | D76: 726111.22
A77: r63 | B77: Položky zvyšujúce základ dane (znižujúce stratu) | C77: 64 | D77: 450306.59
A78: r64 | B78: Položky znižujúce základ dane (zvyšujúce stratu) | C78: 58 | D78: 433952.25
A79: r65 | B79: =VLOOKUP(A79,'2022'!$A$2:$B$219,2,FALSE) -> Základ dane (čiastkový základ dane) z príjmov podľa § 6 ods. 3 a 4 zákona | C79: 57930 | D79: 2.3191579e+08
A80: t2r1s1 | B80: =VLOOKUP(A80,'2022'!$A$2:$B$219,2,FALSE) -> úroky a ostatné výnosy z cenných papierov P) | C80: 2149 | D80: 24524839
A81: t2r1s2 | B81: =VLOOKUP(A81,'2022'!$A$2:$B$219,2,FALSE) -> úroky a ostatné výnosy z cenných papierov (V) | C81: 324 | D81: 5539284.3
A82: t2r2s1 | B82: =VLOOKUP(A82,'2022'!$A$2:$B$219,2,FALSE) -> úroky, výhry a iné výnosy z vkladov na vkladných knižkách, z peňažných prostriedkov na vkladovom účte, na účte stavebného sporiteľa a z bežného účtu okrem úrokov uvedených v § 6 ods. 5 písm. b) zákona (P) | C82: 632 | D82: 2952157.8
A83: t2r2s2 | B83: =VLOOKUP(A83,'2022'!$A$2:$B$219,2,FALSE) -> úroky, výhry a iné výnosy z vkladov na vkladných knižkách, z peňažných prostriedkov na vkladovom účte, na účte stavebného sporiteľa a z bežného účtu okrem úrokov uvedených v § 6 ods. 5 písm. b) zákona (V) | C83: 38 | D83: 202748.75
A84: t2r3s1 | B84: =VLOOKUP(A84,'2022'!$A$2:$B$219,2,FALSE) -> úroky a iné výnosy z poskytnutých úverov a pôžičiek a úroky z hodnoty splateného vkladu v dohodnutej výške spoločníkov verejných obchodných spoločností (P) | C84: 3764 | D84: 11059561
A85: t2r3s2 | B85: =VLOOKUP(A85,'2022'!$A$2:$B$219,2,FALSE) -> úroky a iné výnosy z poskytnutých úverov a pôžičiek a úroky z hodnoty splateného vkladu v dohodnutej výške spoločníkov verejných obchodných spoločností (V) | C85: 467 | D85: 1211351.5
A86: t2r4s1 | B86: =VLOOKUP(A86,'2022'!$A$2:$B$219,2,FALSE) -> dávky z doplnkového dôchodkového sporenia (P) | C86: 24 | D86: 4527829.5
A87: t2r4s2 | B87: =VLOOKUP(A87,'2022'!$A$2:$B$219,2,FALSE) -> dávky z doplnkového dôchodkového sporenia (V) | C87: 26 | D87: 3958801.9
A88: t2r5s1 | B88: =VLOOKUP(A88,'2022'!$A$2:$B$219,2,FALSE) -> plnenia z poistenia pre prípad dožitia určitého veku; jednorazové vyrovnanie alebo odbytné vyplácané v prípade poistenia osôb pri predčasnom skončení poistenia (P) | C88: 40 | D88: 518011.12
A89: t2r5s2 | B89: =VLOOKUP(A89,'2022'!$A$2:$B$219,2,FALSE) -> plnenia z poistenia pre prípad dožitia určitého veku; jednorazové vyrovnanie alebo odbytné vyplácané v prípade poistenia osôb pri predčasnom skončení poistenia (V) | C89: 24 | D89: 424816.15
A90: t2r6s1 | B90: =VLOOKUP(A90,'2022'!$A$2:$B$219,2,FALSE) -> výnosy zo zmeniek okrem príjmov z ich predaja (P) | C90: 111 | D90: 7360489.1
... A140: t3r18s1 | B140: =VLOOKUP(A140,'2022'!$A$2:$B$219,2,FALSE) -> Kladný rozdiel medzi vyššou hodnotou nepeňažného vkladu započítanou na vklad spoločníka a hodnotou vkladaného majetku (P) | C140: 11 | D140: 425096.37
A141: t3r19s1 | B141: Spolu r. 1 až 18 | C141: 19530 | D141: 1.5559828e+09
A142: t3r19s2 | B142: =VLOOKUP(A142,'2022'!$A$2:$B$219,2,FALSE) -> Spolu r. 1 až 18 | C142: 14255 | D142: 1.4435166e+09
A143: r69 | B143: =VLOOKUP(A143,'2022'!$A$2:$B$219,2,FALSE) -> Príjmy z tabuľky č. 3, r. 19, stĺ. 1 | C143: 19530 | D143: 1.5555519e+09
A144: r70 | B144: =VLOOKUP(A144,'2022'!$A$2:$B$219,2,FALSE) -> Výdavky z tabuľky č. 3, r. 19, stĺ. 2 | C144: 14255 | D144: 1.4434861e+09
A145: r71 | B145: =VLOOKUP(A145,'2022'!$A$2:$B$219,2,FALSE) -> Základ dane (čiastkový základ dane) (r. 69 - r. 70) | C145: 14545 | D145: 1.1224743e+08
A146: r72 | B146: Základ dane z príjmov podľa § 5 a § 6 ods. 1 a 2 zákona pred znížením o nezdaniteľnú časť základu dane (r. 40 + r. 57) | C146: 441296 | D146: 3.7974196e+09
A147: r73 | B147: =VLOOKUP(A147,'2022'!$A$2:$B$219,2,FALSE) -> ods. 2 - na daňovníka vypočítaná zo sumy v r. 72 | C147: 405480 | D147: 1.7436512e+09
A148: r74 | B148: =VLOOKUP(A148,'2022'!$A$2:$B$219,2,FALSE) -> ods. 3 - na manželku (manžela) vypočítaná zo sumy v r. 72 | C148: 15235 | D148: 47522548
A149: r75 | B149: =VLOOKUP(A149,'2022'!$A$2:$B$219,2,FALSE) -> ods. 8 - na preukázateľne zaplatené príspevky na doplnkové dôchodkové sporenie maximálne vo výške 180 eur | C149: 21668 | D149: 3216802.4
A150: r76 | B150: ods. 12 - na preukázateľne zaplatené úhrady súvisiace s kúpeľnou starostlivosťou a s ňou spojenými službami | C150: 969 | D150: 67981.87
A151: r76a | B151: za daňovníka | C151: 840 | D151: 41250.66
A152: r76b | B152: za manželku (manžela) a deti | C152: 371 | D152: 34960.29
A153: r77 | B153: =VLOOKUP(A153,'2022'!$A$2:$B$219,2,FALSE) -> Spolu (r. 73 + r. 74 + r.75 ) maximálne do výšky základu dane v r. 72 | C153: 408536 | D153: 1.3786284e+09
A154: r78 | B154: =VLOOKUP(A154,'2022'!$A$2:$B$219,2,FALSE) -> Základ dane z príjmov podľa § 5 po znížení o nezdaniteľnú časť (r. 38 - r. 77, ak je rozdiel r. 38 a r. 77 záporný, uvádza sa v r. 78 nula) | C154: 113729 | D154: 1.6130679e+09
A155: r79 | B155: =VLOOKUP(A155,'2022'!$A$2:$B$219,2,FALSE) -> Suma príspevkov alebo ich častí, o ktorú sa zvyšuje základ dane z príjmov podľa § 11 ods. 11 a § 52zza ods. 2 zákona | C155: 44 | D155: 36157
A156: r80 | B156: =VLOOKUP(A156,'2022'!$A$2:$B$219,2,FALSE) -> Základ dane zistený podľa § 4 ods. 1 písm. a) zákona (r. 78 + r. 65 + r. 71 + r. 79) | C156: 143561 | D156: 1.9577426e+09
A157: r81 | B157: =VLOOKUP(A157,'2022'!$A$2:$B$219,2,FALSE) -> Daň zo základu dane zisteného podľa § 4 ods.1 písm. a) zákona uvedeného v riadku 80 | C157: 143527 | D157: 3.9673363e+08
A158: r82 | B158: =VLOOKUP(A158,'2022'!$A$2:$B$219,2,FALSE) -> Úhrn vyňatých príjmov podľa § 5, § 6 ods. 3 a 4 a § 8 zákona [základov dane (+)] | C158: 9284 | D158: 1.9855485e+08
A159: r83 | B159: =VLOOKUP(A159,'2022'!$A$2:$B$219,2,FALSE) -> Základ dane znížený o úhrn vyňatých príjmov (r. 80 - r. 82) (ak je rozdiel r. 80 a r. 82 záporný, uvádza sa v r.83 nula) | C159: 2580 | D159: 75581259
A160: r84 | B160: =VLOOKUP(A160,'2022'!$A$2:$B$219,2,FALSE) -> Daň zo základu dane zisteného podľa § 4 ods. 1 písm. a) zákona po vyňatí príjmov zo zdrojov v zahraničí uvedeného v riadku 83 | C160: 2713 | D160: 17525764
A161: r85 | B161: =VLOOKUP(A161,'2022'!$A$2:$B$219,2,FALSE) -> Úhrn príjmov (základov dane) podľa § 5, § 6 ods. 3 a 4 a § 8 zákona zo zdrojov v zahraničí | C161: 1274 | D161: 13634934
A162: r86 | B162: =VLOOKUP(A162,'2022'!$A$2:$B$219,2,FALSE) -> Daň zaplatená v zahraničí z príjmov z r. 85 - uvádza sa suma zaplatenej dane podľa zmluvy o zamedzení dvojitého zdanenia | C162: 852 | D162: 2191632.6
A163: r88 | B163: =VLOOKUP(A163,'2022'!$A$2:$B$219,2,FALSE) -> Z dane zaplatenej v zahraničí možno započítať [(r. 84 alebo r. 81) x r. 87] : 100 | C163: 765 | D163: 1785563.1
A164: r89 | B164: =VLOOKUP(A164,'2022'!$A$2:$B$219,2,FALSE) -> Daň uznaná na zápočet (r. 88 maximálne do sumy v r. 86) | C164: 584 | D164: 1346604.2
... A221: r151 | B221: =VLOOKUP(A221,'2022'!$A$2:$B$219,2,FALSE) -> 2% alebo 3% zo zaplatenej dane (minimálne 3 eurá) z r.124 | C221: 110354 | D221: 7126195.9

Sheet 2019
A1: riadok | B1: Popis | C1: počet_subjektov | D1: objem_2019 v eurách
A2: r30 | B2: Úhrnná suma dôchodku (ov) uvedeného (ných) v § 11 ods. 6 zákona za zdaňovacie obdobie (v eurách) | C2: 28021 | D2: 1.267845e+09
A3: r32_p | B3: =VLOOKUP(A3,'2018'!$A$2:$B$213,2,FALSE) -> uplatňujem nezdaniteľnú časť základu dane na manželku (manžela) podľa § 11 ods. 3 zákona vlastné príjmy (v eurách) | C3: 6994 | D3: 13567754
A4: r32_m | B4: uplatňujem nezdaniteľnú časť základu dane na manželku (manžela) podľa § 11 ods. 3 zákona počet mesiacov | C4: 17757 | D4: 194199
A5: r33s2 | B5: Preukázateľne zaplatené úhrady (najviac 50 eur) | C5: 335 | D5: 16225.33
A6: r34_deti_poc | B6: Údaje o vyživovaných deťoch žijúcich s daňovníkom v domácnosti na uplatnenie daňového zvýhodnenia na vyživované dieťa podľa § 33 a § 52zzn zákona | C6: 124023 | D6: 213487
A7: r34_deti_mes | B7: Údaje o vyživovaných deťoch žijúcich s daňovníkom v domácnosti na uplatnenie daňového zvýhodnenia na vyživované dieťa podľa § 33 a § 52zzn zákona | C7: 122567 | D7: 2345686
A8: r36 | B8: Preukázateľne zaplatené úhrady na kúpelnú starostlivosť za vyživované dieťa (deti) v úhrne najviac do výšky 50 eur za rok za každé z týchto detí | C8: 283 | D8: 20499.81
A9: r37s2 | B9: Zaplatené úroky za zdaňovacie obdobie (v eurách) | C9: 2102 | D9: 1173912.6
A10: r37s3 | B10: Zaplatené úroky za zdaňovacie obdobie (počet_mesiacov) | C10: 2104 | D10: 21098
A11: r38 | B11: úhrn príjmov od všetkých zamestnávateľov | C11: 181446 | D11: 2.4171718e+09
A12: r38a | B12: úhrn príjmov plynúcich na základe dohôd o prácach vykonávaných mimo pracovného pomeru | C12: 40771 | D12: 65718992
A13: r39 | B13: Úhrn povinného poistného (§ 5 ods. 8 zákona) | C13: 178970 | D13: 2.9335714e+08
A14: r40 | B14: Základ dane (čiastkový základ dane) (r. 38 - r. 39) | C14: 181432 | D14: 2.1273552e+09
A15: t1r1s1 | B15: =VLOOKUP(A15,'2018'!$A$2:$B$213,2,FALSE) -> z poľnohospodárskej výroby, lesného a vodného hospodárstva (P) | C15: 4183 | D15: 2.0608829e+08
A16: t1r1s2 | B16: =VLOOKUP(A16,'2018'!$A$2:$B$213,2,FALSE) -> z poľnohospodárskej výroby, lesného a vodného hospodárstva (V) | C16: 3454 | D16: 1.9061947e+08
A17: t1r2s1 | B17: =VLOOKUP(A17,'2018'!$A$2:$B$213,2,FALSE) -> zo živnosti (P) | C17: 350833 | D17: 1.0812438e+10
A18: t1r2s2 | B18: =VLOOKUP(A18,'2018'!$A$2:$B$213,2,FALSE) -> zo živnosti (V) | C18: 215229 | D18: 8.2995626e+09
A19: t1r3s1 | B19: =VLOOKUP(A19,'2018'!$A$2:$B$213,2,FALSE) -> z podnikania vykonávaného podľa osobitných predpisov (P) | C19: 9240 | D19: 3.6768863e+08
A20: t1r3s2 | B20: =VLOOKUP(A20,'2018'!$A$2:$B$213,2,FALSE) -> z podnikania vykonávaného podľa osobitných predpisov (V) | C20: 6780 | D20: 2.6089861e+08
A21: t1r4s1 | B21: =VLOOKUP(A21,'2018'!$A$2:$B$213,2,FALSE) -> spoločníkov v. o. s. a komplementárov kom. Pol (P) | C21: 517 | D21: 15430033
A22: t1r4s2 | B22: =VLOOKUP(A22,'2018'!$A$2:$B$213,2,FALSE) -> spoločníkov v. o. s. a komplementárov kom. Pol (V) | C22: 381 | D22: 7774912.5
A23: t1r5s1 | B23: =VLOOKUP(A23,'2018'!$A$2:$B$213,2,FALSE) -> z vytvorenia diela; z podania umeleckého výkonu; z vytvorenia, zhotovenia, použitia alebo postúpenia práv k inému predmetu duševného vlastníctva (P) | C23: 9369 | D23: 48702532
A24: t1r5s2 | B24: =VLOOKUP(A24,'2018'!$A$2:$B$213,2,FALSE) -> z vytvorenia diela; z podania umeleckého výkonu; z vytvorenia, zhotovenia, použitia alebo postúpenia práv k inému predmetu duševného vlastníctva (V) | C24: 5233 | D24: 18522378
A25: t1r6s1 | B25: =VLOOKUP(A25,'2018'!$A$2:$B$213,2,FALSE) -> z činností, ktoré nie sú živnosťou ani podnikaním (P) | C25: 16397 | D25: 89184989
A26: t1r6s2 | B26: =VLOOKUP(A26,'2018'!$A$2:$B$213,2,FALSE) -> z činností, ktoré nie sú živnosťou ani podnikaním (V) | C26: 9368 | D26: 35959314
... A59: r44 | B59: =VLOOKUP(A59,'2018'!$A$2:$B$213,2,FALSE) -> Strata (záporný rozdiel r. 41 a r. 42); výsledok hospodárenia (strata) | C59: 28288 | D59: 2.075514e+08
A60: r45 | B60: Položky zvyšujúce základ dane (znižujúce stratu) | C60: 3936 | D60: 21525013
A61: r46 | B61: Položky znižujúce základ dane (zvyšujúce stratu) | C61: 1670 | D61: 11399258
A62: r47 | B62: Základ dane (čiastkový základ dane) z príjmov podľa § 6 ods. 1 a 2 zákona | C62: 372186 | D62: 1.736919e+09
A63: r48 | B63: Daňová strata z príjmov podľa § 6 ods. 1 a 2 zákona | C63: 28047 | D63: 2.0194906e+08
A64: r49 | B64: =VLOOKUP(A64,'2018'!$A$2:$B$213,2,FALSE) -> Daňové straty z predchádzajúcich zdaňovacích období odpočítavané podľa § 30 zákona | C64: 7185 | D64: 57934155
A65: r50 | B65: =VLOOKUP(A65,'2018'!$A$2:$B$213,2,FALSE) -> Daňové straty z predchádzajúcich zdaňovacích období odpočítavané podľa § 30 zákona | C65: 3851 | D65: 31963530
A66: r51 | B66: =VLOOKUP(A66,'2018'!$A$2:$B$213,2,FALSE) -> Daňové straty z predchádzajúcich zdaňovacích období odpočítavané podľa § 30 zákona | C66: 2973 | D66: 26492560
A67: r52 | B67: =VLOOKUP(A67,'2018'!$A$2:$B$213,2,FALSE) -> Daňové straty z predchádzajúcich zdaňovacích období odpočítavané podľa § 30 zákona | C67: 2604 | D67: 22051007
A68: r53 | B68: Súčet daňových strát z r. 49 až 52 odpočítavaných podľa § 30 zákona | C68: 9676 | D68: 1.3846964e+08
A69: r54 | B69: 1/4 zo sumy uvedenej v r. 53 vypočítanej podľa § 30 zákona | C69: 9671 | D69: 35659033
A70: r55 | B70: Znížený čiastkový základ dane z príjmov podľa § 6 ods. 1 a 2 zákona o stratu z predchádzajúcich zdaňovacích období maximálne do sumy v r. 47 (r. 47 - r. 54) | C70: 370183 | D70: 1.7136855e+09
A71: r56 | B71: Odpočet výdavkov (nákladov) na výskum a vývoj podľa § 30c zákona maximálne do sumy uvedenej v r. 55 (r. 9 prílohy č. 1) | C71: 13 | D71: 506070.54
A72: r57 | B72: Základ dane (čiastkový základ dane) z príjmov podľa § 6 ods. 1 a 2 zákona znížený o odpočet výdavkov (nákladov) na výskum a vývoj zaokrúhlený na eurocenty nadol (r. 55 - r. 56) | C72: 370101 | D72: 1.7126035e+09
A73: r58 | B73: Príjmy z tabuľky č.1 stĺ. 1, r.13 | C73: 62780 | D73: 4.2150558e+08
A74: r59 | B74: Výdavkyz tabuľky č.1 stĺ. 1, r.13 | C74: 50860 | D74: 1.8703158e+08
A75: r60 | B75: Základ dane (rozdiel r. 58 a r. 59) | C75: 58028 | D75: 2.3447628e+08
A76: r61 | B76: Výsledok hospodárenia (zisk) | C76: 79 | D76: 524387.78
A77: r62 | B77: Výsledok hospodárenia (strata) | C77: 109 | D77: 624424.88
A78: r63 | B78: Položky zvyšujúce základ dane (znižujúce stratu) | C78: 71 | D78: 200079.51
A79: r64 | B79: Položky znižujúce základ dane (zvyšujúce stratu) | C79: 51 | D79: 137206.66
A80: r65 | B80: =VLOOKUP(A80,'2018'!$A$2:$B$213,2,FALSE) -> Základ dane (čiastkový základ dane) z príjmov podľa § 6 ods. 3 a 4 zákona | C80: 58121 | D80: 2.3504391e+08
A81: t2r1s1 | B81: =VLOOKUP(A81,'2018'!$A$2:$B$213,2,FALSE) -> úroky a ostatné výnosy z cenných papierov P) | C81: 2239 | D81: 27532726
A82: t2r1s2 | B82: =VLOOKUP(A82,'2018'!$A$2:$B$213,2,FALSE) -> úroky a ostatné výnosy z cenných papierov (V) | C82: 253 | D82: 9446931.1
A83: t2r2s1 | B83: =VLOOKUP(A83,'2018'!$A$2:$B$213,2,FALSE) -> úroky, výhry a iné výnosy z vkladov na vkladných knižkách, z peňažných prostriedkov na vkladovom účte, na účte stavebného sporiteľa a z bežného účtu okrem úrokov uvedených v § 6 ods. 5 písm. b) zákona (P) | C83: 682 | D83: 3000463.9
A84: t2r2s2 | B84: =VLOOKUP(A84,'2018'!$A$2:$B$213,2,FALSE) -> úroky, výhry a iné výnosy z vkladov na vkladných knižkách, z peňažných prostriedkov na vkladovom účte, na účte stavebného sporiteľa a z bežného účtu okrem úrokov uvedených v § 6 ods. 5 písm. b) zákona (V) | C84: 50 | D84: 594491.49
A85: t2r3s1 | B85: =VLOOKUP(A85,'2018'!$A$2:$B$213,2,FALSE) -> úroky a iné výnosy z poskytnutých úverov a pôžičiek a úroky z hodnoty splateného vkladu v dohodnutej výške spoločníkov verejných obchodných spoločností | C85: 3645 | D85: 12622061
A86: t2r3s2 | B86: =VLOOKUP(A86,'2018'!$A$2:$B$213,2,FALSE) -> úroky a iné výnosy z poskytnutých úverov a pôžičiek a úroky z hodnoty splateného vkladu v dohodnutej výške spoločníkov verejných obchodných spoločností | C86: 467 | D86: 1499713
A87: t2r4s1 | B87: =VLOOKUP(A87,'2018'!$A$2:$B$213,2,FALSE) -> dávky z doplnkového dôchodkového sporenia | C87: 32 | D87: 397303.22
A88: t2r4s2 | B88: =VLOOKUP(A88,'2018'!$A$2:$B$213,2,FALSE) -> dávky z doplnkového dôchodkového sporenia | C88: 27 | D88: 44697.32
A89: t2r5s1 | B89: =VLOOKUP(A89,'2018'!$A$2:$B$213,2,FALSE) -> plnenia z poistenia pre prípad dožitia určitého veku; jednorazové vyrovnanie alebo odbytné vyplácané v prípade poistenia osôb pri predčasnom skončení poistenia | C89: 51 | D89: 1633331.4
A90: t2r5s2 | B90: =VLOOKUP(A90,'2018'!$A$2:$B$213,2,FALSE) -> plnenia z poistenia pre prípad dožitia určitého veku; jednorazové vyrovnanie alebo odbytné vyplácané v prípade poistenia osôb pri predčasnom skončení poistenia | C90: 27 | D90: 1127721.4
A91: t2r6s1 | B91: =VLOOKUP(A91,'2018'!$A$2:$B$213,2,FALSE) -> výnosy zo zmeniek okrem príjmov z ich predaja (P) | C91: 118 | D91: 12920781
... A141: t3r18s1 | B141: =VLOOKUP(A141,'2018'!$A$2:$B$213,2,FALSE) -> kladný rozdiel medzi vyššou hodnotou nepeňažného vkladu započítanou na vklad spoločníka a hodnotou vkladaného majetku (P) | C141: 10 | D141: 425949.49
A142: t3r19s1 | B142: Spolu r1 až 18 | C142: 18848 | D142: 1.072361e+09
A143: t3r19s2 | B143: =VLOOKUP(A143,'2018'!$A$2:$B$213,2,FALSE) -> Spolu r. 1 až 18 | C143: 12845 | D143: 9.627098e+08
A144: r69 | B144: =VLOOKUP(A144,'2018'!$A$2:$B$213,2,FALSE) -> Príjmy z tabuľky č. 3, r. 19, stĺ. 1 | C144: 18856 | D144: 1.0689129e+09
A145: r70 | B145: =VLOOKUP(A145,'2018'!$A$2:$B$213,2,FALSE) -> Výdavky z tabuľky č. 3, r. 19, stĺ. 2 | C145: 12846 | D145: 9.6267283e+08
A146: r71 | B146: =VLOOKUP(A146,'2018'!$A$2:$B$213,2,FALSE) -> Základ dane (čiastkový základ dane) (r. 69 - r. 70) | C146: 14091 | D146: 1.0642048e+08
A147: r72 | B147: Základ dane z príjmov podľa § 5 a § 6 ods. 1 a 2 zákona pred znížením o nezdaniteľnú časť základu dane (r. 40 + r. 57) | C147: 452676 | D147: 3.8409352e+09
A148: r73 | B148: =VLOOKUP(A148,'2018'!$A$2:$B$213,2,FALSE) -> ods. 2 - na daňovníka vypočítaná zo sumy v r. 72 | C148: 415996 | D148: 1.6028665e+09
A149: r74 | B149: =VLOOKUP(A149,'2018'!$A$2:$B$213,2,FALSE) -> ods. 3 - na manželku (manžela) vypočítaná zo sumy v r. 72 | C149: 17458 | D149: 51343478
A150: r75 | B150: =VLOOKUP(A150,'2018'!$A$2:$B$213,2,FALSE) -> ods. 10 - na preukázateľne zaplatené príspevky na doplnkové dôchodkové sporenie maximálne vo výške 180 eur | C150: 20696 | D150: 2998154.7
A151: r76 | B151: =VLOOKUP(A151,'2018'!$A$2:$B$213,2,FALSE) -> ods. 14 - na preukázateľne zaplatené úhrady súvisiace s kúpeľnou starostlivosťou a s ňou spojenými službami | C151: 1323 | D151: 95599.62
A152: r76a | B152: =VLOOKUP(A152,'2018'!$A$2:$B$213,2,FALSE) -> za daňovníka | C152: 1151 | D152: 55990.51
A153: r76b | B153: =VLOOKUP(A153,'2018'!$A$2:$B$213,2,FALSE) -> za manželku (manžela) a deti | C153: 522 | D153: 40143.03
A154: r77 | B154: =VLOOKUP(A154,'2018'!$A$2:$B$213,2,FALSE) -> Spolu (r. 73 + r. 74 + r. 75 + r. 76) maximálne do výšky základu dane v r. 72 | C154: 418767 | D154: 1.343437e+09
A155: r78 | B155: =VLOOKUP(A155,'2018'!$A$2:$B$213,2,FALSE) -> Základ dane z príjmov podľa § 5 a § 6 ods. 1 a 2 zákona po znížení o nezdaniteľnú časť (r. 72 - r. 77) | C155: 281328 | D155: 2.4975616e+09
A156: r79 | B156: =VLOOKUP(A156,'2018'!$A$2:$B$213,2,FALSE) -> Suma príspevkov, o ktorú sa zvyšuje základ dane podľa § 11 ods. 9 a 13 zákona | C156: 62 | D156: 128380.46
A157: r80 | B157: =VLOOKUP(A157,'2018'!$A$2:$B$213,2,FALSE) -> Základ dane zistený podľa § 4 zákona (r. 78 + r. 65 + r. 71 + r. 79) | C157: 305090 | D157: 2.8391263e+09
A158: r81 | B158: =VLOOKUP(A158,'2018'!$A$2:$B$213,2,FALSE) -> Daň zo základu dane zisteného podľa § 4 zákona uvedeného v riadku 80 zaokrúhlená na eurocenty nadol | C158: 305016 | D158: 5.7280937e+08
A159: r82 | B159: =VLOOKUP(A159,'2018'!$A$2:$B$213,2,FALSE) -> Úhrn vyňatých príjmov podľa § 5, 6 a 8 zákona [základov dane (+) a daňových strát (-)] | C159: 30634 | D159: 3.4209026e+08
... A186: r111 | B186: =VLOOKUP(A186,'2018'!$A$2:$B$213,2,FALSE) -> Zamestnávateľom nesprávne vyplatený daňový bonus podľa § 33 zákona r. 108 - r. 106 > 0 | C186: 553 | D186: 83017.21
A187: r112 | B187: Nárok na daňový bonus na zaplatené úroky podľa § 33a zákona | C187: 2101 | D187: 539025.48
A188: r113 | B188: Daň (daňová povinnosť) znížená o daňový bonus podľa § 33 zákona a o daňový bonus na zaplatené úroky podľa § 33a zákona (r. 107 - r. 112) | C188: 251514 | D188: 4.8975987e+08
A189: r114 | B189: Suma daňového bonusu podľa § 33a zákona priznaného a vyplateného zamestnávateľom | C189: 167 | D189: 62275.32
A190: r115 | B190: Rozdiel r. 112 - r. 114 > 0 | C190: 2085 | D190: 536378.43
A191: r116 | B191: Suma daňového bonusu podľa § 33a zákona na poukázanie správcom dane r. 115 - r. 107 > 0 | C191: 726 | D191: 173635.57
A192: r117 | B192: Suma zamestnaneckej prémie nesprávne vyplatenej zamestnávateľom alebo správcom dane | C192: 2 | D192: 577.7
A193: r118 | B193: Suma preddavku vybraná podľa § 43 zákona | C193: 647 | D193: 1233514.3
A194: r119 | B194: Suma preddavku vybraná pri vyplatení (vrátení) podielového listu obstaraného do 31. decembra 2003 podľa § 43 ods. 10 zákona (z príjmov uvedených v r. 12 tabuľky č. 2) | C194: 16 | D194: 16835.76
A195: r120 | B195: § 35 zákona - z príjmov zo závislej činnosti | C195: 156713 | D195: 3.0691292e+08
A196: r121 | B196: § 44 zákona - na zabezpečenie dane | C196: 143 | D196: 199299.12
A197: r122 | B197: Zaplatené preddavky na daň podľa § 34 zákona okrem preddavkov zaplatených podľa § 34 ods. 6 a 7 zákona | C197: 10516 | D197: 49167895
A198: r123 | B198: Zaplatené preddavky na daň podľa § 34 ods. 6 a 7 zákona | C198: 129 | D198: 635130.82
... A213: r141 | B213: 2 % alebo 3 % zo zaplatenej dane 37) (minimálne 3 eurá) z r. 113 zaokrúhlené na eurocenty nadol | C213: 123918 | D213: 7429556.7

Sheet 2018
A1: riadok | B1: Popis | C1: počet_subjektov | D1: objem_2018 v eurách
A2: r30 | B2: Úhrnná suma dôchodku (ov) uvedeného (ných) v § 11 ods. 6 zákona za zdaňovacie obdobie (v eurách) | C2: 33687 | D2: 1.9705997e+08
A3: r32_p | B3: uplatňujem nezdaniteľnú časť základu dane na manželku (manžela) podľa § 11 ods. 3 zákona vlastné príjmy (v eurách) | C3: 7967 | D3: 22213791
A4: r32_m | B4: uplatňujem nezdaniteľnú časť základu dane na manželku (manžela) podľa § 11 ods. 3 zákona počet mesiacov | C4: 18756 | D4: 206151
A5: r33s2 | B5: Preukázateľne zaplatené úhrady (najviac 50 eur) | C5: 262 | D5: 12760.18
A6: r34_deti_poc | B6: Údaje o vyživovaných deťoch žijúcich s daňovníkom v domácnosti na uplatnenie daňového bonusu podľa § 33 zákona | C6: 120578 | D6: 206796
A7: r34_deti_mes | B7: Údaje o vyživovaných deťoch žijúcich s daňovníkom v domácnosti na uplatnenie daňového bonusu podľa § 33 zákona | C7: 119269 | D7: 2277523
A8: r36 | B8: Preukázateľne zaplatené úhrady na kúpelnú starostlivosť za vyživované dieťa (deti) v úhrne najviac do výšky 50 eur za rok za každé z týchto detí | C8: 167 | D8: 11839.84
A9: r37s2 | B9: zaplatené úroky za zdaňovacie obdobie (v eurách) | C9: 869 | D9: 328924.49
A10: r37s3 | B10: zaplatené úroky za zdaňovacie obdobie (počet mesiacov) | C10: 870 | D10: 6001
A11: r38 | B11: Úhrn príjmov od všetkých zamestnávateľov | C11: 176369 | D11: 2.2018545e+09
A12: r38a | B12: úhrn príjmov plynúcich na základe dohôd o prácach vykonávaných mimo pracovného pomeru | C12: 39258 | D12: 55286726
A13: r39 | B13: Úhrn povinného poistného (§ 5 ods. 8 zákona) | C13: 174345 | D13: 2.6669616e+08
... A41: zapl_poistne | B41: Preukázateľne zaplatené poistné z príjmov podľa § 6 ods. 1 a 2 zákona | C41: 322935 | D41: 6.7297894e+08
A42: t1ar1s1 | B42: =VLOOKUP(A42,'2022'!$A$40:$B$53,2,FALSE) -> zostatková cena hmotného majetku zaradeného do obchodného majetku 1 | C42: 15194 | D42: 9.7211821e+08
A43: t1ar1s2 | B43: =VLOOKUP(A43,'2022'!$A$40:$B$53,2,FALSE) -> zostatková cena hmotného majetku zaradeného do obchodného majetku 2 | C43: 15786 | D43: 1.0136918e+09
A44: t1ar2s1 | B44: =VLOOKUP(A44,'2022'!$A$40:$B$53,2,FALSE) -> zostatková cena nehmotného majetku zaradeného do obchodného majetku 1 | C44: 494 | D44: 30666757
A45: t1ar2s2 | B45: =VLOOKUP(A45,'2022'!$A$40:$B$53,2,FALSE) -> zostatková cena nehmotného majetku zaradeného do obchodného majetku 2 | C45: 507 | D45: 30692277
A46: t1ar3s1 | B46: =VLOOKUP(A46,'2022'!$A$40:$B$53,2,FALSE) -> zásoby 1 | C46: 9764 | D46: 1.8055478e+08
A47: t1ar3s2 | B47: =VLOOKUP(A47,'2022'!$A$40:$B$53,2,FALSE) -> zásoby 2 | C47: 10223 | D47: 1.8084655e+08
A48: t1ar4s1 | B48: =VLOOKUP(A48,'2022'!$A$40:$B$53,2,FALSE) -> pohľadávky 1 | C48: 16640 | D48: 2.0613443e+08
A49: t1ar4s2 | B49: =VLOOKUP(A49,'2022'!$A$40:$B$53,2,FALSE) -> pohľadávky 2 | C49: 18672 | D49: 2.1549631e+08
A50: t1ar5s1 | B50: =VLOOKUP(A50,'2022'!$A$40:$B$53,2,FALSE) -> záväzky 1 | C50: 17101 | D50: 1.8411085e+08
A51: t1ar5s2 | B51: =VLOOKUP(A51,'2022'!$A$40:$B$53,2,FALSE) -> záväzky 2 | C51: 19292 | D51: 1.9360066e+08
A52: t1br1s1 | B52: =VLOOKUP(A52,'2022'!$A$40:$B$53,2,FALSE) -> zásoby 1 | C52: 2204 | D52: 5759495.1
A53: t1br1s2 | B53: =VLOOKUP(A53,'2022'!$A$40:$B$53,2,FALSE) -> zásoby 2 | C53: 2308 | D53: 5297688.8
... A55: t1br2s2 | B55: =VLOOKUP(A55,'2022'!$A$40:$B$53,2,FALSE) -> pohľadávky 1 | C55: 25442 | D55: 58458466
A56: r41 | B56: Príjmy z tabuľky č.1, stĺ . 1, r.10 | C56: 392336 | D56: 1.1656374e+10
A57: r42 | B57: Výdavky z tabuľky č.1, stĺ . 1, r.10 | C57: 392004 | D57: 1.0274479e+10
A58: r43 | B58: Základ dane (kladný rozdiel r. 41 a r. 42); výsledok hospodárenia (zisk) | C58: 365195 | D58: 1.6285304e+09
A59: r44 | B59: Strata (záporný rozdiel r. 41 a r. 42); výsledok hospodárenia (strata) | C59: 29192 | D59: 2.0949904e+08
A60: r45 | B60: Položky zvyšujúce základ dane (znižujúce stratu) | C60: 3830 | D60: 23714021
A61: r46 | B61: Položky znižujúce základ dane (zvyšujúce stratu) | C61: 1632 | D61: 12171452
A62: r47 | B62: Základ dane (čiastkový základ dane) z príjmov podľa § 6 ods. 1 a 2 zákona | C62: 365486 | D62: 1.6327523e+09
A63: r48 | B63: Daňová strata z príjmov podľa § 6 ods. 1 a 2 zákona | C63: 28926 | D63: 2.0220294e+08
A64: r49 | B64: Daňové straty z predchádzajúcich zdaňovacích období odpočítavané podľa § 30 zákona | C64: 4111 | D64: 41382478
A65: r50 | B65: Daňové straty z predchádzajúcich zdaňovacích období odpočítavané podľa § 30 zákona | C65: 4436 | D65: 38779975
A66: r51 | B66: Daňové straty z predchádzajúcich zdaňovacích období odpočítavané podľa § 30 zákona | C66: 5079 | D66: 42447269
A67: r52 | B67: Daňové straty z predchádzajúcich zdaňovacích období odpočítavané podľa § 30 zákona | C67: 6109 | D67: 48546653
... A213: r141 | B213: 2 % alebo 3 % zo zaplatenej dane 37) (minimálne 3 eurá) z r. 113 zaokrúhlené na eurocenty nadol | C213: 116077 | D213: 6762453.8

Sheet 2017
A1: riadok | B1: Popis | C1: počet_subjektov | D1: objem_2017 v eurách
A2: r30 | B2: Úhrnná suma dôchodku (ov) uvedeného (ných) v § 11 ods. 6 zákona za zdaňovacie obdobie (v eurách) | C2: 31333 | D2: 5.8856742e+08
A3: r31_p | B3: uplatňujem nezdaniteľnú časť základu dane na manželku (manžela) podľa § 11 ods. 3 zákona vlastné príjmy (v eurách) | C3: 8592 | D3: 16818291
A4: r31_m | B4: uplatňujem nezdaniteľnú časť základu dane na manželku (manžela) podľa § 11 ods. 3 zákona počet mesiacov | C4: 19274 | D4: 212105
A5: r32_deti_poc | B5: Údaje o vyživovaných deťoch žijúcich s daňovníkom v domácnosti na uplatnenie daňového bonusu podľa § 33 zákona | C5: 119699 | D5: 204648
A6: r32_deti_mes | B6: Údaje o vyživovaných deťoch žijúcich s daňovníkom v domácnosti na uplatnenie daňového bonusu podľa § 33 zákona | C6: 118418 | D6: 2251531
A7: r34 | B7: Úhrn príjmov od všetkých zamestnávateľov | C7: 172207 | D7: 2.000525e+09
A8: r34a | B8: úhrn príjmov plynúcich na základe dohôd o prácach vykonávaných mimo pracovného pomeru | C8: 39752 | D8: 51356238
A9: r35 | B9: Úhrn povinného poistného (§ 5 ods. 8 zákona) | C9: 169603 | D9: 2.4168776e+08
A10: r36 | B10: Základ dane (čiastkový základ dane) (r. 34 - r. 35) | C10: 172197 | D10: 1.7595425e+09
A11: t1r1s1 | B11: z poľnohospodárskej výroby, lesného a vodného hospodárstva (P) | C11: 4595 | D11: 1.9203264e+08
A12: t1r1s2 | B12: z poľnohospodárskej výroby, lesného a vodného hospodárstva (V) | C12: 3793 | D12: 1.7771093e+08
A13: t1r2s1 | B13: zo živnosti (P) | C13: 339503 | D13: 1.048503e+10
... A37: zapl_poistne | B37: Preukázateľne zaplatené poistné z príjmov podľa § 6 ods. 1 a 2 zákona | C37: 318481 | D37: 6.5880836e+08
A38: t1ar1s1 | B38: =VLOOKUP(A38,'2022'!$A$40:$B$53,2,FALSE) -> zostatková cena hmotného majetku zaradeného do obchodného majetku 1 | C38: 15001 | D38: 9.3763167e+08
A39: t1ar1s2 | B39: =VLOOKUP(A39,'2022'!$A$40:$B$53,2,FALSE) -> zostatková cena hmotného majetku zaradeného do obchodného majetku 2 | C39: 15489 | D39: 9.4194436e+08
A40: t1ar2s1 | B40: =VLOOKUP(A40,'2022'!$A$40:$B$53,2,FALSE) -> zostatková cena nehmotného majetku zaradeného do obchodného majetku 1 | C40: 518 | D40: 27956213
A41: t1ar2s2 | B41: =VLOOKUP(A41,'2022'!$A$40:$B$53,2,FALSE) -> zostatková cena nehmotného majetku zaradeného do obchodného majetku 2 | C41: 539 | D41: 29070930
A42: t1ar3s1 | B42: =VLOOKUP(A42,'2022'!$A$40:$B$53,2,FALSE) -> zásoby 1 | C42: 10068 | D42: 9.2971302e+09
A43: t1ar3s2 | B43: =VLOOKUP(A43,'2022'!$A$40:$B$53,2,FALSE) -> zásoby 2 | C43: 10429 | D43: 1.7322452e+08
A44: t1ar4s1 | B44: =VLOOKUP(A44,'2022'!$A$40:$B$53,2,FALSE) -> pohľadávky 1 | C44: 17038 | D44: 1.2390472e+09
A45: t1ar4s2 | B45: =VLOOKUP(A45,'2022'!$A$40:$B$53,2,FALSE) -> pohľadávky 2 | C45: 18872 | D45: 2.117811e+08
A46: t1ar5s1 | B46: =VLOOKUP(A46,'2022'!$A$40:$B$53,2,FALSE) -> záväzky 1 | C46: 17744 | D46: 1.8053873e+08
A47: t1ar5s2 | B47: =VLOOKUP(A47,'2022'!$A$40:$B$53,2,FALSE) -> záväzky 2 | C47: 19586 | D47: 1.8228858e+08
A48: t1br1s1 | B48: =VLOOKUP(A48,'2022'!$A$40:$B$53,2,FALSE) -> zásoby 1 | C48: 2292 | D48: 6347862.2
A49: t1br1s2 | B49: =VLOOKUP(A49,'2022'!$A$40:$B$53,2,FALSE) -> zásoby 2 | C49: 2216 | D49: 7668770.7
... A51: t1br2s2 | B51: =VLOOKUP(A51,'2022'!$A$40:$B$53,2,FALSE) -> pohľadávky 1 | C51: 22532 | D51: 49772433
A52: r37 | B52: Príjmy z tabuľky č. 1, st . 1, r.10 | C52: 386861 | D52: 1.1307096e+10
A53: r38 | B53: Výdavky z tabuľky č. 1, stĺ. 2, r. 10 | C53: 386819 | D53: 1.0051667e+10
A54: r39 | B54: Základ dane (kladný rozdiel r. 37 a r. 38) výsledok hospodárenia (zisk) | C54: 356844 | D54: 1.4981745e+09
A55: r40 | B55: Strata (záporný rozdiel r. 37 a r. 38) výsledok hospodárenia (strata) | C55: 32075 | D55: 2.0914591e+08
A56: r41 | B56: Položky zvyšujúce základ dane (znižujúce stratu) | C56: 3920 | D56: 34063545
A57: r42 | B57: Položky znižujúce základ dane (zvyšujúce stratu) | C57: 1849 | D57: 22444162
A58: r43 | B58: Základ dane (čiastkový základ dane) z príjmov podľa § 6 ods. 1 a 2 zákona | C58: 357241 | D58: 1.5040151e+09
A59: r44 | B59: Daňová strata z príjmov podľa § 6 ods. 1 a 2 zákona | C59: 31742 | D59: 2.0330017e+08
A60: r45 | B60: Daňové straty vykázané za zdaňovacie obdobia ukončené v rokoch 2010 až 2013 neuplatnené do 31. decembra 2013 odpočítavané podľa § 52za ods. 4 zákona | C60: 1491 | D60: 19621517
A61: r46 | B61: Daňové straty vykázané za zdaňovacie obdobia ukončené v rokoch 2010 až 2013 neuplatnené do 31. decembra 2013 odpočítavané podľa § 52za ods. 4 zákona | C61: 2101 | D61: 27700880
A62: r47 | B62: Daňové straty vykázané za zdaňovacie obdobia ukončené v rokoch 2010 až 2013 neuplatnené do 31. decembra 2013 odpočítavané podľa § 52za ods. 4 zákona | C62: 2657 | D62: 35893233
A63: r48 | B63: Daňové straty vykázané za zdaňovacie obdobia ukončené v rokoch 2010 až 2013 neuplatnené do 31. decembra 2013 odpočítavané podľa § 52za ods. 4 zákona | C63: 4085 | D63: 47134858
... A71: r57 | B71: Základ dane (čiastkový základ dane) z príjmov podľa § 6 ods. 1 a 2 zákona znížený o odpočet výdavkov (nákladov) na výskum a vývoj zaokrúhlený na eurocenty nadol (r. 55 - r. 56) | C71: 353866 | D71: 1.4708343e+09
A72: r58 | B72: =VLOOKUP(A72,'2022'!$A$2:$B$219,2,FALSE) -> Príjmy z tabuľky č. 1, stĺ. 1, r. 13 | C72: 58992 | D72: 3.6007813e+08
A73: r59 | B73: =VLOOKUP(A73,'2022'!$A$2:$B$219,2,FALSE) -> Výdavky z tabuľky č. 1, stĺ. 2, r. 13 | C73: 47162 | D73: 1.6230955e+08
A74: r60 | B74: Základ dane (rozdiel r. 58 a r. 59) | C74: 53905 | D74: 1.9777982e+08
A75: r61 | B75: Výsledok hospodárenia (zisk) | C75: 91 | D75: 562558.65
A76: r62 | B76: Výsledok hospodárenia (strata) | C76: 132 | D76: 648761.79
A77: r63 | B77: Položky zvyšujúce základ dane (znižujúce stratu) | C77: 83 | D77: 489644.56
A78: r64 | B78: Položky znižujúce základ dane (zvyšujúce stratu) | C78: 62 | D78: 277324.02
A79: r65 | B79: Základ dane (čiastkový základ dane) z príjmov podľa § 6 ods. 3 a 4 zákona | C79: 53998 | D79: 1.9845163e+08
A80: t2r1s1 | B80: úroky a ostatné výnosy z cenných papierov P) | C80: 2360 | D80: 28380643
A81: t2r1s2 | B81: úroky a ostatné výnosy z cenných papierov (V) | C81: 581 | D81: 8200189.2
A82: t2r2s1 | B82: úroky, výhry a iné výnosy z vkladov na vkladných knižkách, z peňažných prostriedkov na vkladovom účte, na účte stavebného sporiteľa a z bežného účtu okrem úrokov uvedených v § 6 ods. 5 písm. b) zákona (P) | C82: 782 | D82: 69856138
A83: t2r2s2 | B83: úroky, výhry a iné výnosy z vkladov na vkladných knižkách, z peňažných prostriedkov na vkladovom účte, na účte stavebného sporiteľa a z bežného účtu okrem úrokov uvedených v § 6 ods. 5 písm. b) zákona (V) | C83: 72 | D83: 694224.42
A84: t2r3s1 | B84: úroky a iné výnosy z poskytnutých úverov a pôžičiek a úroky z hodnoty splateného vkladu v dohodnutej výške spoločníkov verejných obchodných spoločností | C84: 3715 | D84: 13372182
A85: t2r3s2 | B85: úroky a iné výnosy z poskytnutých úverov a pôžičiek a úroky z hodnoty splateného vkladu v dohodnutej výške spoločníkov verejných obchodných spoločností | C85: 504 | D85: 651372.22
... A198: r134 | B198: 2 % alebo 3 % zo zaplatenej dane 35) (minimálne 3 eurá) z r. 107 zaokrúhlené na eurocenty nadol | C198: 104217 | D198: 6030360.9

Sheet 2016
A1: riadok | B1: Popis | C1: počet_subjektov | D1: objem_2016 v eurách
A2: r30 | B2: Úhrnná suma dôchodku (ov) uvedeného (ných) v § 11 ods. 6 zákona za zdaňovacie obdobie (v eurách) | C2: 30502 | D2: 1.7175332e+08
A3: r31_p | B3: uplatňujem nezdaniteľnú časť základu dane na manželku (manžela) podľa § 11 ods. 3 zákona vlastné príjmy (v eurách) | C3: 11043 | D3: 20109130
A4: r31_m | B4: uplatňujem nezdaniteľnú časť základu dane na manželku (manžela) podľa § 11 ods. 3 zákona počet mesiacov | C4: 23773 | D4: 262649
A5: r32_deti_poc | B5: Údaje o vyživovaných deťoch žijúcich s daňovníkom v domácnosti na uplatnenie daňového bonusu podľa § 33 zákona | C5: 118970 | D5: 203068
A6: r32_deti_mes | B6: Údaje o vyživovaných deťoch žijúcich s daňovníkom v domácnosti na uplatnenie daňového bonusu podľa § 33 zákona | C6: 117783 | D6: 2237859
A7: r34 | B7: Úhrn príjmov od všetkých zamestnávateľov | C7: 165638 | D7: 1.9215667e+09
A8: r34a | B8: úhrn príjmov plynúcich na základe dohôd o prácach vykonávaných mimo pracovného pomeru | C8: 39908 | D8: 49698839
A9: r35 | B9: Úhrn povinného poistného (§ 5 ods. 8 zákona) | C9: 163007 | D9: 2.1642586e+08
A10: r36 | B10: Základ dane (čiastkový základ dane) (r. 34 - r. 35) | C10: 165653 | D10: 1.7090464e+09
A11: t1r1s1 | B11: z poľnohospodárskej výroby, lesného a vodného hospodárstva (P) | C11: 4540 | D11: 2.0191254e+08
A12: t1r1s2 | B12: z poľnohospodárskej výroby, lesného a vodného hospodárstva (V) | C12: 3950 | D12: 1.8586264e+08
A13: t1r2s1 | B13: zo živnosti (P) | C13: 331414 | D13: 1.0256964e+10
... A37: zapl_poistne | B37: Preukázateľne zaplatené poistné z príjmov podľa § 6 ods. 1 a 2 zákona | C37: 310879 | D37: 6.4054292e+08
A38: t1ar1s1 | B38: =VLOOKUP(A38,'2022'!$A$40:$B$53,2,FALSE) -> zostatková cena hmotného majetku zaradeného do obchodného majetku 1 | C38: 15922 | D38: 9.0587599e+08
A39: t1ar1s2 | B39: =VLOOKUP(A39,'2022'!$A$40:$B$53,2,FALSE) -> zostatková cena hmotného majetku zaradeného do obchodného majetku 2 | C39: 16606 | D39: 9.3081568e+08
A40: t1ar2s1 | B40: =VLOOKUP(A40,'2022'!$A$40:$B$53,2,FALSE) -> zostatková cena nehmotného majetku zaradeného do obchodného majetku 1 | C40: 569 | D40: 28676320
A41: t1ar2s2 | B41: =VLOOKUP(A41,'2022'!$A$40:$B$53,2,FALSE) -> zostatková cena nehmotného majetku zaradeného do obchodného majetku 2 | C41: 576 | D41: 26560267
A42: t1ar3s1 | B42: =VLOOKUP(A42,'2022'!$A$40:$B$53,2,FALSE) -> zásoby 1 | C42: 10849 | D42: 3.3921629e+09
A43: t1ar3s2 | B43: =VLOOKUP(A43,'2022'!$A$40:$B$53,2,FALSE) -> zásoby 2 | C43: 11501 | D43: 1.7133994e+08
A44: t1ar4s1 | B44: =VLOOKUP(A44,'2022'!$A$40:$B$53,2,FALSE) -> pohľadávky 1 | C44: 21086 | D44: 2.2242913e+08
A45: t1ar4s2 | B45: =VLOOKUP(A45,'2022'!$A$40:$B$53,2,FALSE) -> pohľadávky 2 | C45: 24368 | D45: 2.1463222e+08
A46: t1ar5s1 | B46: =VLOOKUP(A46,'2022'!$A$40:$B$53,2,FALSE) -> záväzky 1 | C46: 20783 | D46: 1.8462863e+08
A47: t1ar5s2 | B47: =VLOOKUP(A47,'2022'!$A$40:$B$53,2,FALSE) -> záväzky 2 | C47: 24065 | D47: 1.8543207e+08
A48: t1br1s1 | B48: =VLOOKUP(A48,'2022'!$A$40:$B$53,2,FALSE) -> zásoby 1 | C48: 1250 | D48: 3244653.3
A49: t1br1s2 | B49: =VLOOKUP(A49,'2022'!$A$40:$B$53,2,FALSE) -> zásoby 2 | C49: 1296 | D49: 3044789.4
... A51: t1br2s2 | B51: =VLOOKUP(A51,'2022'!$A$40:$B$53,2,FALSE) -> pohľadávky 1 | C51: 13465 | D51: 26218788
A52: r37 | B52: Príjmy z tabuľky č. 1, st . 1, r.10 | C52: 378970 | D52: 1.1122804e+10
A53: r38 | B53: Výdavky z tabuľky č. 1, stĺ. 2, r. 10 | C53: 380543 | D53: 9.5902522e+09
A54: r39 | B54: Základ dane (kladný rozdiel r. 37 a r. 38) výsledok hospodárenia (zisk) | C54: 350840 | D54: 1.7797064e+09
A55: r40 | B55: Strata (záporný rozdiel r. 37 a r. 38) výsledok hospodárenia (strata) | C55: 36018 | D55: 2.1049539e+08
A56: r41 | B56: Položky zvyšujúce základ dane (znižujúce stratu) | C56: 4068 | D56: 26011570
A57: r42 | B57: Položky znižujúce základ dane (zvyšujúce stratu) | C57: 2266 | D57: 12292806
A58: r43 | B58: Základ dane (čiastkový základ dane) z príjmov podľa § 6 ods. 1 a 2 zákona | C58: 351244 | D58: 1.7858623e+09
A59: r44 | B59: Daňová strata z príjmov podľa § 6 ods. 1 a 2 zákona | C59: 35676 | D59: 2.0288249e+08
A60: r45 | B60: Daňové straty vykázané za zdaňovacie obdobia ukončené v rokoch 2010 až 2013 neuplatnené do 31. decembra 2013 odpočítavané podľa § 52za ods. 4 zákona | C60: 1876 | D60: 24578267
A61: r46 | B61: Daňové straty vykázané za zdaňovacie obdobia ukončené v rokoch 2010 až 2013 neuplatnené do 31. decembra 2013 odpočítavané podľa § 52za ods. 4 zákona | C61: 2680 | D61: 33842364
A62: r47 | B62: Daňové straty vykázané za zdaňovacie obdobia ukončené v rokoch 2010 až 2013 neuplatnené do 31. decembra 2013 odpočítavané podľa § 52za ods. 4 zákona | C62: 3684 | D62: 45694962
A63: r48 | B63: Daňové straty vykázané za zdaňovacie obdobia ukončené v rokoch 2010 až 2013 neuplatnené do 31. decembra 2013 odpočítavané podľa § 52za ods. 4 zákona | C63: 5205 | D63: 54497379
... A70: r57 | B70: Základ dane (čiastkový základ dane) z príjmov podľa § 6 ods. 1 a 2 zákona znížený o odpočet výdavkov (nákladov) na výskum a vývoj zaokrúhlený na eurocenty nadol (r. 55 - r. 56) | C70: 347174 | D70: 1.7480955e+09
A71: r58 | B71: =VLOOKUP(A71,'2022'!$A$2:$B$219,2,FALSE) -> Príjmy z tabuľky č. 1, stĺ. 1, r. 13 | C71: 57412 | D71: 3.3765205e+08
A72: r59 | B72: =VLOOKUP(A72,'2022'!$A$2:$B$219,2,FALSE) -> Výdavky z tabuľky č. 1, stĺ. 2, r. 13 | C72: 45720 | D72: 1.4862477e+08
A73: r60 | B73: Základ dane (rozdiel r. 58 a r. 59) | C73: 52277 | D73: 1.8901397e+08
A74: r61 | B74: Výsledok hospodárenia (zisk) | C74: 121 | D74: 777036.72
A75: r62 | B75: Výsledok hospodárenia (strata) | C75: 177 | D75: 1705000.7
A76: r63 | B76: Položky zvyšujúce základ dane (znižujúce stratu) | C76: 90 | D76: 2056315.8
A77: r64 | B77: Položky znižujúce základ dane (zvyšujúce stratu) | C77: 78 | D77: 1026364.3
A78: r65 | B78: Základ dane (čiastkový základ dane) z príjmov podľa § 6 ods. 3 a 4 zákona | C78: 52364 | D78: 1.898806e+08
A79: t2r1s1 | B79: úroky a ostatné výnosy z cenných papierov P) | C79: 2249 | D79: 28330429
A80: t2r1s2 | B80: úroky a ostatné výnosy z cenných papierov (V) | C80: 619 | D80: 11683505
A81: t2r2s1 | B81: úroky, výhry a iné výnosy z vkladov na vkladných knižkách, z peňažných prostriedkov na vkladovom účte, na účte stavebného sporiteľa a z bežného účtu okrem úrokov uvedených v § 6 ods. 5 písm. b) zákona (P) | C81: 782 | D81: 1464528.8
A82: t2r2s2 | B82: úroky, výhry a iné výnosy z vkladov na vkladných knižkách, z peňažných prostriedkov na vkladovom účte, na účte stavebného sporiteľa a z bežného účtu okrem úrokov uvedených v § 6 ods. 5 písm. b) zákona (V) | C82: 70 | D82: 206872.95
A83: t2r3s1 | B83: úroky a iné výnosy z poskytnutých úverov a pôžičiek a úroky z hodnoty splateného vkladu v dohodnutej výške spoločníkov verejných obchodných spoločností | C83: 3863 | D83: 17940095
A84: t2r3s2 | B84: úroky a iné výnosy z poskytnutých úverov a pôžičiek a úroky z hodnoty splateného vkladu v dohodnutej výške spoločníkov verejných obchodných spoločností | C84: 530 | D84: 713709.94
... A198: r134 | B198: 2 % alebo 3 % zo zaplatenej dane 35) (minimálne 3 eurá) z r. 107 zaokrúhlené na eurocenty nadol | C198: 107118 | D198: 6371758.2

Sheet 2015
A1: riadok | B1: Popis | C1: počet_subjektov | D1: objem_2015 v eurách
A2: r30 | B2: Úhrnná suma dôchodku (ov) uvedeného (ných) v § 11 ods. 6 zákona za zdaňovacie obdobie (v eurách) | C2: 29417 | D2: 1.9577436e+08
A3: r31_p | B3: uplatňujem nezdaniteľnú časť základu dane na manželku (manžela) podľa § 11 ods. 3 zákona vlastné príjmy (v eurách) | C3: 12220 | D3: 21808690
A4: r32_deti_poc | B4: Údaje o vyživovaných deťoch žijúcich s daňovníkom v domácnosti na uplatnenie daňového bonusu podľa § 33 zákona | C4: 120566 | D4: 205661
A5: r34 | B5: Úhrn príjmov od všetkých zamestnávateľov | C5: 165404 | D5: 1.8584151e+09
A6: r32_deti_mes | B6: Údaje o vyživovaných deťoch žijúcich s daňovníkom v domácnosti na uplatnenie daňového bonusu podľa § 33 zákona | C6: 119406 | D6: 2265757
A7: r34a | B7: úhrn príjmov plynúcich na základe dohôd o prácach vykonávaných mimo pracovného pomeru | C7: 42648 | D7: 54776258
A8: r35 | B8: Úhrn povinného poistného (§ 5 ods. 8 zákona) | C8: 163300 | D8: 2.1105578e+08
A9: r36 | B9: Základ dane (čiastkový základ dane) (r. 34 - r. 35) | C9: 165421 | D9: 1.653097e+09
A10: t1r1s1 | B10: =VLOOKUP(A10,'2022'!$A$13:$B$38,2,FALSE) -> z poľnohospodárskej výroby, lesného a vodného hospodárstva (P) | C10: 4592 | D10: 2.066924e+08
A11: t1r1s2 | B11: =VLOOKUP(A11,'2022'!$A$13:$B$38,2,FALSE) -> z poľnohospodárskej výroby, lesného a vodného hospodárstva (V) | C11: 4000 | D11: 1.9105242e+08
A12: t1r2s1 | B12: =VLOOKUP(A12,'2022'!$A$13:$B$38,2,FALSE) -> zo živnosti (P) | C12: 332087 | D12: 1.0462585e+10
A13: t1r2s2 | B13: =VLOOKUP(A13,'2022'!$A$13:$B$38,2,FALSE) -> zo živnosti (V) | C13: 270049 | D13: 8.8743589e+09
A14: t1r3s1 | B14: =VLOOKUP(A14,'2022'!$A$13:$B$38,2,FALSE) -> z podnikania vykonávaného podľa osobitných predpisov (P) | C14: 10904 | D14: 4.2571962e+08
A15: t1r3s2 | B15: =VLOOKUP(A15,'2022'!$A$13:$B$38,2,FALSE) -> z podnikania vykonávaného podľa osobitných predpisov (V) | C15: 9623 | D15: 3.2786109e+08
A16: t1r4s1 | B16: =VLOOKUP(A16,'2022'!$A$13:$B$38,2,FALSE) -> spoločníkov v. o. s. a komplementárov kom. spol. (P) | C16: 631 | D16: 18565577
A17: t1r4s2 | B17: =VLOOKUP(A17,'2022'!$A$13:$B$38,2,FALSE) -> spoločníkov v. o. s. a komplementárov kom. spol.(V) | C17: 2465 | D17: 12535755
A18: t1r5s1 | B18: =VLOOKUP(A18,'2022'!$A$13:$B$38,2,FALSE) -> z vytvorenia diela a z podania umeleckého výkonu, pri ktorých daňovník uplatnil postup podľa § 43 ods. 14 zákona a z vydávania, rozmnožovania a rozširovania diel na vlastné náklady a z vytvorenia alebo zhotovenia iného predmetu duševného vlastníctva a z použitia iného predmetu duševného vlastníctva alebo z postúpenia práv k predmetu duševného vlastníctva (P) | C18: 9726 | D18: 42363416
A19: t1r5s2 | B19: =VLOOKUP(A19,'2022'!$A$13:$B$38,2,FALSE) -> z vytvorenia diela a z podania umeleckého výkonu, pri ktorých daňovník uplatnil postup podľa § 43 ods. 14 zákona a z vydávania, rozmnožovania a rozširovania diel na vlastné náklady a z vytvorenia alebo zhotovenia iného predmetu duševného vlastníctva a z použitia iného predmetu duševného vlastníctva alebo z postúpenia práv k predmetu duševného vlastníctva (V) | C19: 6542 | D19: 17873160
A20: t1r6s1 | B20: =VLOOKUP(A20,'2022'!$A$13:$B$38,2,FALSE) -> z činností, ktoré nie sú živnosťou ani podnikaním (P) | C20: 15339 | D20: 83046432
A21: t1r6s2 | B21: =VLOOKUP(A21,'2022'!$A$13:$B$38,2,FALSE) -> z činností, ktoré nie sú živnosťou ani podnikaním (V) | C21: 10476 | D21: 35163608
... A25: t1r8s2 | B25: =VLOOKUP(A25,'2022'!$A$13:$B$38,2,FALSE) -> z činností sprostredkovateľov, ktoré nie sú živnosťou (V) | C25: 6962 | D25: 35998604
A26: t1r9s1 | B26: spolu r. 1 až 8 | C26: 380426 | D26: 1.1324702e+10
A27: t1r9s2 | B27: spolu r. 1 až 8 | C27: 382276 | D27: 9.7985868e+09
A28: t1r10s1 | B28: z prenájmu nehnuteľností (P) | C28: 52596 | D28: 3.0381859e+08
A29: t1r10s2 | B29: z prenájmu nehnuteľností (V) | C29: 41420 | D29: 1.3458183e+08
A30: t1r11s1 | B30: z použitia diela a umeleckého výkonu, ak nepatria do príjmov podľa § 6 ods. 2 písm. a) zákona uvádzaných na r. 51 (P) | C30: 3597 | D30: 18094999
A31: t1r11s2 | B31: z použitia diela a umeleckého výkonu, ak nepatria do príjmov podľa § 6 ods. 2 písm. a) zákona uvádzaných na r. 51 (V) | C31: 3328 | D31: 6266415.1
A32: t1r12s1 | B32: spolu r10 a 11 | C32: 56210 | D32: 3.2446687e+08
A33: t1r12s2 | B33: spolu r10 a 11 | C33: 44804 | D33: 1.4239317e+08
A34: zapl_poistne | B34: Preukázateľne zaplatené poistné z príjmov podľa § 6 ods. 1 a 2 zákona | C34: 309757 | D34: 6.0746055e+08
A35: t1ar1s1 | B35: =VLOOKUP(A35,'2022'!$A$40:$B$53,2,FALSE) -> zostatková cena hmotného majetku zaradeného do obchodného majetku 1 | C35: 15034 | D35: 8.5462842e+08
A36: t1ar1s2 | B36: =VLOOKUP(A36,'2022'!$A$40:$B$53,2,FALSE) -> zostatková cena hmotného majetku zaradeného do obchodného majetku 2 | C36: 15871 | D36: 9.0856936e+08
A37: t1ar2s1 | B37: =VLOOKUP(A37,'2022'!$A$40:$B$53,2,FALSE) -> zostatková cena nehmotného majetku zaradeného do obchodného majetku 1 | C37: 558 | D37: 27946647
A38: t1ar2s2 | B38: =VLOOKUP(A38,'2022'!$A$40:$B$53,2,FALSE) -> zostatková cena nehmotného majetku zaradeného do obchodného majetku 2 | C38: 562 | D38: 28890611
A39: t1ar3s1 | B39: =VLOOKUP(A39,'2022'!$A$40:$B$53,2,FALSE) -> zásoby 1 | C39: 10763 | D39: 1.6988925e+08
A40: t1ar3s2 | B40: =VLOOKUP(A40,'2022'!$A$40:$B$53,2,FALSE) -> zásoby 2 | C40: 11428 | D40: 1.6925164e+08
A41: t1ar4s1 | B41: =VLOOKUP(A41,'2022'!$A$40:$B$53,2,FALSE) -> pohľadávky 1 | C41: 20511 | D41: 2.1916807e+08
A42: t1ar4s2 | B42: =VLOOKUP(A42,'2022'!$A$40:$B$53,2,FALSE) -> pohľadávky 2 | C42: 23437 | D42: 2.2644248e+08
A43: t1ar5s1 | B43: =VLOOKUP(A43,'2022'!$A$40:$B$53,2,FALSE) -> záväzky 1 | C43: 20400 | D43: 1.8189545e+08
A44: t1ar5s2 | B44: =VLOOKUP(A44,'2022'!$A$40:$B$53,2,FALSE) -> záväzky 2 | C44: 23292 | D44: 1.8238936e+08
A45: t1br1s1 | B45: =VLOOKUP(A45,'2022'!$A$40:$B$53,2,FALSE) -> zásoby 1 | C45: 1154 | D45: 3158647.5
A46: t1br1s2 | B46: =VLOOKUP(A46,'2022'!$A$40:$B$53,2,FALSE) -> zásoby 2 | C46: 1220 | D46: 5869597.3
... A48: t1br2s2 | B48: =VLOOKUP(A48,'2022'!$A$40:$B$53,2,FALSE) -> pohľadávky 1 | C48: 12985 | D48: 28075609
A49: r37 | B49: Príjmy z tabuľky č. 1, st . 1, r.9 | C49: 380591 | D49: 1.1334813e+10
A50: r38 | B50: Výdavky z tabuľky č. 1, stĺ. 2, r. 9 | C50: 382481 | D50: 9.8079577e+09
A51: r39 | B51: Základ dane (kladný rozdiel r. 37 a r. 38) výsledok hospodárenia (zisk) | C51: 350655 | D51: 1.7839288e+09
A52: r40 | B52: Strata (záporný rozdiel r. 37 a r. 38) výsledok hospodárenia (strata) | C52: 38307 | D52: 2.0964218e+08
A53: r41 | B53: Položky zvyšujúce základ dane (znižujúce stratu) | C53: 4151 | D53: 25627714
A54: r42 | B54: Položky znižujúce základ dane (zvyšujúce stratu) | C54: 2218 | D54: 22882599
A55: r43 | B55: Základ dane (čiastkový základ dane) z príjmov podľa § 6 ods. 1 a 2 zákona | C55: 351131 | D55: 1.7814365e+09
A56: r44 | B56: Daňová strata z príjmov podľa § 6 ods. 1 a 2 zákona | C56: 37924 | D56: 2.046448e+08
A57: r45 | B57: Daňové straty vykázané za zdaňovacie obdobia ukončené v rokoch 2010 až 2013 neuplatnené do 31. decembra 2013 odpočítavané podľa § 52za ods. 4 zákona | C57: 2343 | D57: 29866008
A58: r46 | B58: Daňové straty vykázané za zdaňovacie obdobia ukončené v rokoch 2010 až 2013 neuplatnené do 31. decembra 2013 odpočítavané podľa § 52za ods. 4 zákona | C58: 3393 | D58: 42288774
A59: r47 | B59: Daňové straty vykázané za zdaňovacie obdobia ukončené v rokoch 2010 až 2013 neuplatnené do 31. decembra 2013 odpočítavané podľa § 52za ods. 4 zákona | C59: 4438 | D59: 52280833
A60: r48 | B60: Daňové straty vykázané za zdaňovacie obdobia ukončené v rokoch 2010 až 2013 neuplatnené do 31. decembra 2013 odpočítavané podľa § 52za ods. 4 zákona | C60: 6194 | D60: 60359654
... A180: r123 | B180: 2 % alebo 3 % zo zaplatenej dane 35) (minimálne 3 eurá) z r. 96 zaokrúhlené na eurocenty nadol | C180: 101772 | D180: 6270189.7
